{"text_format":"3","workbook":"xlsx","n_sheets":18,"sheets":["COVER","Reg List","Start List","Men","Jr Men","Men's Comb","Women","Jr Women","Women's Comb","Youth Men","Men Master","Boys","Women Master","Women Veteran","Women Sr","Men Sr","Men Veteran","Point Summary"],"not_rendered":{"images":3,"macros":1,"defined_names":18},"read":"whole","date_system":"1900"}

{"sheet":"COVER","index":0,"n_rows":45,"n_cols":14,"rows_kept":45,"merged":[[0,0,0,13],[1,0,1,13],[2,0,2,13],[3,0,3,13]]}
["U.S. IBU Cup Trials & MN Cup #3"]
["2012-12-16"]
["PURSUIT COMPETITION"]
["FINAL RESULTS"]
["Coleraine, MN",{"$nulls":12},"Mt. Itasca Nordic Ski Association"]
[]
[]
[]
[null,null,"PATICIPATION"]
[null,null,"CLASS","START","ENTRIES","DNS","DNF","DSQ"]
[null,null,"VETERAN MEN"]
[null,null,"SR MASTER MEN"]
[null,null,"MASTER MEN"]
[null,null,"MEN"]
[null,null,"VETERAN WOMEN"]
[null,null,"SR MASTER WOMEN"]
[null,null,"MASTER WOMEN"]
[null,null,"WOMEN"]
[null,null,"JR MEN"]
[null,null,"JR WOMEN"]
[null,null,"YOUTH MEN"]
[null,null,"YOUTH WOMEN"]
[null,null,"TOTAL",{"$f":"SUM(D11:D22)","v":0},{"$f":"SUM(E11:E22)","v":0},{"$f":"SUM(F11:F22)","v":0},{"$f":"SUM(G11:G22)","v":0},{"$f":"SUM(H11:H22)","v":0}]
[]
[]
[null,null,"WEATHER","10:00:00","11:00:00","12:00:00","13:00:00","14:00:00"]
[null,null,"AIR TEMP"]
[null,null,"SNOW TEMP"]
[null,null,"SKY CONDIT."]
[null,null,"WIND SPEED"]
[null,null,"WIND DIRCT."]
[]
[]
[null,null,"JURY"]
[null,null,"TECHNICAL DELIGATE:",{"$nulls":3},"COMPETITION CHIEF:"]
[]
[null,null,"JURY:"]
[]
[]
[]
[]
[]
[null,null,"TD'S SIGNATURE:"]
[]
[null,null,"DATE / TIME:"]

{"sheet":"Reg List","index":1,"n_rows":102,"n_cols":5,"rows_kept":102,"merged":[[0,0,0,4],[1,0,1,4],[2,0,2,4],[3,0,3,4]]}
[{"$f":"+COVER!A1","v":"U.S. IBU Cup Trials & MN Cup #3"}]
[{"$f":"+COVER!A2","v":"2012-12-16"}]
[{"$f":"+COVER!A3","v":"PURSUIT COMPETITION"}]
["REGISTRATION LIST"]
["Coleraine, MN",{"$nulls":3},"Mt. Itasca Biathlon Association"]
[]
["Class","Name","Town/Club","Start #","Class"]
[{"$nulls":4},{"$f":"A8","v":0}]
[{"$nulls":4},0]
[{"$nulls":4},0]
[{"$nulls":4},0]
[{"$nulls":4},0]
[{"$nulls":4},0]
[{"$nulls":4},0]
[{"$nulls":4},0]
[{"$nulls":4},0]
[{"$nulls":4},0]
[{"$nulls":4},0]
[{"$nulls":4},0]
[{"$nulls":4},0]
[{"$nulls":4},0]
[{"$nulls":4},0]
[{"$nulls":4},0]
[{"$nulls":4},0]
[{"$nulls":4},0]
[{"$nulls":4},0]
[{"$nulls":4},0]
[{"$nulls":4},0]
[{"$nulls":4},0]
[{"$nulls":4},0]
[{"$nulls":4},0]
[{"$nulls":4},0]
[{"$nulls":4},0]
[{"$nulls":4},0]
[{"$nulls":4},0]
[{"$nulls":4},0]
[{"$nulls":4},0]
[{"$nulls":4},0]
[{"$nulls":4},0]
[{"$nulls":4},0]
[{"$nulls":4},0]
[{"$nulls":4},0]
[{"$nulls":4},0]
[{"$nulls":4},0]
[{"$nulls":4},0]
[{"$nulls":4},0]
[{"$nulls":4},0]
[{"$nulls":4},0]
[{"$nulls":4},0]
[{"$nulls":4},0]
[{"$nulls":4},0]
[{"$nulls":4},0]
[{"$nulls":4},0]
[{"$nulls":4},0]
[{"$nulls":4},0]
[{"$nulls":4},0]
[{"$nulls":4},0]
[{"$nulls":4},0]
[{"$nulls":4},0]
[{"$nulls":4},0]
[{"$nulls":4},0]
[{"$nulls":4},0]
[{"$nulls":4},0]
[{"$nulls":4},0]
[{"$nulls":4},0]
[{"$nulls":4},0]
[{"$nulls":4},0]
[{"$nulls":4},0]
[{"$nulls":4},0]
[{"$nulls":4},0]
[{"$nulls":4},0]
[{"$nulls":4},{"$f":"A72","v":0}]
[{"$nulls":4},0]
[{"$nulls":4},0]
[{"$nulls":4},0]
[{"$nulls":4},0]
[{"$nulls":4},0]
[{"$nulls":4},0]
[{"$nulls":4},0]
[{"$nulls":4},0]
[{"$nulls":4},0]
[{"$nulls":4},0]
[{"$nulls":4},0]
[{"$nulls":4},0]
[{"$nulls":4},0]
[{"$nulls":4},0]
[{"$nulls":4},0]
[{"$nulls":4},0]
[{"$nulls":4},0]
[{"$nulls":4},0]
[{"$nulls":4},0]
[{"$nulls":4},0]
[{"$nulls":4},0]
[{"$nulls":4},0]
[{"$nulls":4},0]
[{"$nulls":4},0]
[{"$nulls":4},0]
[{"$nulls":4},0]
[{"$nulls":4},0]
[{"$nulls":4},0]
[{"$nulls":4},0]
[{"$nulls":4},0]

{"sheet":"Start List","index":2,"n_rows":80,"n_cols":12,"rows_kept":80,"merged":[[0,0,0,11],[1,0,1,11],[2,0,2,11],[3,0,3,11]]}
[{"$f":"+COVER!A1","v":"U.S. IBU Cup Trials & MN Cup #3"}]
[{"$f":"+COVER!A2","v":"2012-12-16"}]
[{"$f":"+COVER!A3","v":"PURSUIT COMPETITION"}]
["START LIST"]
["Coleraine, MN",{"$nulls":10},{"$f":"COVER!N5","v":"Mt. Itasca Nordic Ski Association"}]
[]
["Class","StNr","Name (last, first)","Club/Team/Hometown, State","Start","Ski Time","P","P","S","S","T","Final"]
["SM",51,"Roberts, Wynn","National Guard","11:00:30",{"$nulls":5},{"$f":"IF(ISBLANK(G8),\"\",G8+H8+I8+J8)","v":""}]
["SM",52,"Johnson, Mark","Mt.Itasca","11:00:40",{"$nulls":5},{"$f":"IF(ISBLANK(G9),\"\",G9+H9+I9+J9)","v":""}]
["SM",53,"Bowler, Bill","Biathlon Alberta","11:00:50",{"$nulls":5},{"$f":"IF(ISBLANK(G10),\"\",G10+H10+I10+J10)","v":""}]
["SM",54,"Goessling, Raleigh","MWSC","11:01:00",{"$nulls":5},{"$f":"IF(ISBLANK(G11),\"\",G11+H11+I11+J11)","v":""}]
["JM",55,"Dalberg, Jacob","National Guard","11:01:10",{"$nulls":5},{"$f":"IF(ISBLANK(G12),\"\",G12+H12+I12+J12)","v":""}]
["SM",56,"Gibson, Michael","Vermont Biathlon","11:01:20"]
["SM",57,"Roberts, Conrad","National Guard","11:01:30"]
["SM",58,"Claas, Marc","Wisconsin Biathlon","11:01:40"]
["JM",59,"Nelson, Zach ","NNW","11:01:50"]
[null,60,"ghost",null,"11:02:00"]
[]
[null,null,"90 second break"]
[]
["SW",61,"Malcolm, Corrine","National Team","11:03:30"]
["SW",62,"Dreissigacker, Hannah","Craftsbury GRP/Nat.Team","11:03:40"]
["SW",63,"Howe, Katrina","MWSC","11:03:50"]
["JW",64,"Kubek, Anna","Mt.Itasca ","11:04:00"]
["SW",65,"Wygant, Jennifer",null,"11:04:10"]
["SW",66,"Mayo, Andrea",null,"11:04:20"]
["JW",67,"Hynes, Silke","Vermont Biathlon","11:04:30"]
["JW",68,"Ellingson, Siena","TC Biathlon","11:04:40"]
["JW",69,"Ruzich, Jenna","NNW","11:04:50"]
["JW",70,"Manning, Melissa","MWSC","11:05:00"]
["JW",71,"Peterson, Rachel","Hastings","11:05:10"]
[null,72,"ghost",null,"11:05:20",{"$nulls":5},{"$f":"IF(ISBLANK(G32),\"\",G32+H32+I32+J32)","v":""}]
[{"$nulls":10},""]
[null,null,"15 minute break",{"$nulls":7},""]
[{"$nulls":10},""]
["YM",75,"Mcelroy, Jordan","National Guard","11:20:00",{"$nulls":5},""]
["YM",76,"Ellingson, Jakob","TC Biathlon","11:20:10"]
["YM",77,"Betsinger, Jalen","Blackhawk Biathlon","11:20:20"]
["YM",78,"Merhar CJ","NNW","11:20:30",{"$nulls":5},""]
["YM",79,"Hadrits, Ty","NNW","11:20:40",{"$nulls":5},""]
["YM",80,"Fairbanks, Joe","Duluth/Esko","11:20:50",{"$nulls":5},""]
["YM",81,"Baker, Zean","NNW","11:21:00"]
[null,82,"ghost",null,"11:21:10"]
["MM",83,"Peterson, Paul","National Guard","11:21:20",{"$nulls":5},""]
["MM",84,"Quinlan, Bill","Colorado Biathlon","11:21:30",{"$nulls":5},""]
["MM",85,"Bradley, Tyler","National Guard","11:21:40",{"$nulls":5},""]
["MM",86,"Hynes, Jeremiah","Ontario Biathlon","11:21:50",{"$nulls":5},""]
["MM",87,"Christiansen, Pelle","NNW","11:22:00",{"$nulls":5},""]
["B",88,"Christiansen, Cam","NNW","11:22:10",{"$nulls":5},""]
["B",89,"Pascuzzo, Joseph","Ontario Biathlon","11:22:20",{"$nulls":5},""]
["B",90,"Quinn, Toby","Lake Superior Biathlon","11:22:30",{"$nulls":5},""]
[null,91,"ghost",null,"11:22:40"]
[{"$nulls":10},""]
[{"$nulls":10},""]
[{"$nulls":10},""]
[{"$nulls":10},""]
[{"$nulls":10},""]
[{"$nulls":10},{"$f":"IF(ISBLANK(G58),\"\",G58+H58+I58+J58)","v":""}]
[{"$nulls":10},""]
[{"$nulls":10},""]
[{"$nulls":10},""]
[{"$nulls":10},""]
[{"$nulls":10},""]
[{"$nulls":10},""]
[]
[{"$nulls":10},""]
[]
[{"$nulls":10},""]
[{"$nulls":10},""]
[{"$nulls":10},""]
[{"$nulls":10},""]
[{"$nulls":10},""]
[{"$nulls":10},{"$f":"IF(ISBLANK(G73),\"\",G73+H73+I73+J73)","v":""}]
[{"$nulls":10},""]
[{"$nulls":10},""]
[{"$nulls":10},""]
[{"$nulls":10},""]
[{"$nulls":10},""]
[{"$nulls":10},""]
[{"$nulls":10},""]

{"sheet":"Men","index":3,"n_rows":37,"n_cols":22,"rows_kept":37,"merged":[[0,0,0,14],[1,0,1,14],[2,0,2,14],[3,0,3,14]]}
[{"$f":"COVER!A1","v":"U.S. IBU Cup Trials & MN Cup #3"}]
[{"$f":"COVER!A2","v":"2012-12-16"}]
["MEN'S 12.5 km PURSUIT COMPETITION"]
[{"$f":"COVER!A4","v":"FINAL RESULTS"}]
[{"$f":"COVER!A5","v":"Coleraine, MN"},{"$nulls":13},{"$f":"COVER!N5","v":"Mt. Itasca Nordic Ski Association"}]
[]
["Pos.","StNr","Name","Club/Team/Hometown, State","Start","Ski Time","P","P","S","S","T","Final","Behind","NA-Pts","%","StNr","FINISH",null,"Points"]
[1,53,"Bowler, Bill","Biathlon Alberta","11:00:50",null,0,1,3,3,{"$f":"IF(ISBLANK(G8),\"\",G8+H8+I8+J8)","v":7},{"$f":"IF(Q8>0,Q8-E8,\"\")","v":"00:32:12"},{"$f":"IF(Q8>0,L8-L$8,\"\")","v":"00:00:00"},{"$f":"IF(Q8>0,S8,\"\")","v":50},{"$f":"IF(Q8>0,2-(L8/((L$8+L$9+L$10)/3)),\"\")","v":{"v":1.0173106593648678,"d":"101.73%"}},{"$f":"B8","v":53},"11:33:02",null,50]
[2,51,"Roberts, Wynn","National Guard","11:00:30",null,3,2,0,3,8,"00:32:17.400","00:00:05.400",46,{"v":1.0145640121395134,"d":"101.46%"},51,"11:32:47.400",null,46]
[3,54,"Goessling, Raleigh","MWSC","11:01:00",null,0,4,3,3,10,"00:33:48.700","00:01:36.700",43,{"v":0.9681253284956188,"d":"96.81%"},54,"11:34:48.700",null,43]
[4,56,"Gibson, Michael","Vermont Biathlon","11:01:20",null,3,2,3,4,12,"00:35:10.700","00:02:58.700",40,{"v":0.9264169817399079,"d":"92.64%"},56,"11:36:30.700",null,40]
[5,57,"Roberts, Conrad","National Guard","11:01:30",null,2,2,1,3,8,"00:35:39.200","00:03:27.200",37,{"v":0.9119207880503806,"d":"91.19%"},57,"11:37:09.200",null,37]
[6,52,"Johnson, Mark","Mt.Itasca","11:00:40",null,1,1,5,3,10,"00:35:47.400","00:03:35.400",34,{"v":0.9077499533747919,"d":"90.77%"},52,"11:36:27.400",null,34]
[7,58,"Claas, Marc","Wisconsin Biathlon","11:01:40",null,3,2,3,3,11,"00:45:28.300","00:13:16.300",32,{"v":0.6122819212966883,"d":"61.23%"},58,"11:47:08.300",null,32]
[8,{"$nulls":9},{"$f":"IF(ISBLANK(G15),\"\",G15+H15+I15+J15)","v":""},{"$f":"IF(Q15>0,Q15-E15,\"\")","v":""},{"$f":"IF(Q15>0,L15-L$8,\"\")","v":""},{"$f":"IF(Q15>0,S15,\"\")","v":""},{"$f":"IF(Q15>0,2-(L15/((L$8+L$9+L$10)/3)),\"\")","v":""},{"$f":"B15","v":0},null,null,30]
[9,{"$nulls":9},"","","","","",0,null,null,28]
[10,{"$nulls":9},"","","","","",0,null,null,26]
[11,{"$nulls":9},"","","","","",0,null,null,24]
[12,{"$nulls":9},"","","","","",0,null,null,22]
[13,{"$nulls":9},"","","","","",0,null,null,20]
[14,{"$nulls":9},"","","","","",0,null,null,18]
[15,{"$nulls":9},"","","","","",0,null,null,16]
[16,{"$nulls":9},"","","","","",0,null,null,15]
[17,{"$nulls":9},"","","","","",0,null,null,14]
[{"$nulls":11},"","","","",{"$nulls":3},13]
[{"$nulls":11},"","","","",{"$nulls":3},12]
[{"$nulls":11},"","","","",{"$nulls":3},11]
[{"$nulls":18},10,null,null,"`"]
[{"$nulls":18},9]
[{"$nulls":18},8]
[{"$nulls":18},7]
[{"$nulls":18},6]
[{"$nulls":18},5]
[{"$nulls":18},4]
[{"$nulls":18},3]
[{"$nulls":18},2]
[{"$nulls":18},1]

{"sheet":"Jr Men","index":4,"n_rows":37,"n_cols":19,"rows_kept":37,"merged":[[0,0,0,14],[1,0,1,14],[2,0,2,14],[3,0,3,14]]}
[{"$f":"COVER!A1","v":"U.S. IBU Cup Trials & MN Cup #3"}]
[{"$f":"COVER!A2","v":"2012-12-16"}]
["Jr. MEN'S 12.5 km PURSUIT COMPETITION"]
[{"$f":"COVER!A4","v":"FINAL RESULTS"}]
[{"$f":"COVER!A5","v":"Coleraine, MN"},{"$nulls":13},{"$f":"COVER!N5","v":"Mt. Itasca Nordic Ski Association"}]
[]
["Pos.","StNr","Name","Club/Team/Hometown, State","Start","Ski Time","P","P","S","S","T","Final","Behind","NA-Pts","%","StNr","FINISH",null,"Points"]
[1,55,"Dalberg, Jacob","National Guard","11:01:10",null,1,0,4,1,{"$f":"IF(ISBLANK(G8),\"\",G8+H8+I8+J8)","v":6},{"$f":"IF(Q8>0,Q8-E8,\"\")","v":"00:33:37.500"},{"$f":"IF(Q8>0,L8-L$8,\"\")","v":"00:00:00"},{"$f":"IF(Q8>0,S8,\"\")","v":50},{"$f":"IF(Q8>0,2-(L8/((L$8+L$9+L$10)/3)),\"\")","v":{"$error":"#VALUE!"}},{"$f":"B8","v":55},"11:34:47.500",null,50]
[2,59,"Nelson, Zach ","NNW","11:01:50",null,5,4,5,5,19,"00:48:41.900","00:15:04.400",46,{"$error":"#VALUE!"},59,"11:50:31.900",null,46]
[3,{"$nulls":9},"","","","","",0,null,null,43]
[4,{"$nulls":9},"","","","","",0,null,null,40]
[5,{"$nulls":9},"","","","","",0,null,null,37]
[6,{"$nulls":9},"","","","","",0,null,null,34]
[7,{"$nulls":9},"","","","","",0,null,null,32]
[8,{"$nulls":9},"","","","","",0,null,null,30]
[{"$nulls":10},{"$f":"IF(ISBLANK(G16),\"\",G16+H16+I16+J16)","v":""},{"$f":"IF(Q16>0,Q16-E16,\"\")","v":""},{"$f":"IF(Q16>0,L16-L$8,\"\")","v":""},{"$f":"IF(Q16>0,S16,\"\")","v":""},{"$f":"IF(Q16>0,2-(L16/((L$8+L$9+L$10)/3)),\"\")","v":""},{"$nulls":3},28]
[{"$nulls":10},{"$f":"IF(ISBLANK(G17),\"\",G17+H17+I17+J17)","v":""},"","","","",{"$nulls":3},26]
[{"$nulls":10},{"$f":"IF(ISBLANK(G18),\"\",G18+H18+I18+J18)","v":""},"","","","",{"$nulls":3},24]
[{"$nulls":11},"","","","",{"$nulls":3},22]
[{"$nulls":11},"","","","",{"$nulls":3},20]
[{"$nulls":11},"","","","",{"$nulls":3},18]
[{"$nulls":11},"","","","",{"$nulls":3},16]
[{"$nulls":11},"","","","",{"$nulls":3},15]
[{"$nulls":11},"","","","",{"$nulls":3},14]
[{"$nulls":11},"","","","",{"$nulls":3},13]
[{"$nulls":11},"","","","",{"$nulls":3},12]
[{"$nulls":11},"","","","",{"$nulls":3},11]
[{"$nulls":18},10]
[{"$nulls":18},9]
[{"$nulls":18},8]
[{"$nulls":18},7]
[{"$nulls":18},6]
[{"$nulls":18},5]
[{"$nulls":18},4]
[{"$nulls":18},3]
[{"$nulls":18},2]
[{"$nulls":18},1]

{"sheet":"Men's Comb","index":5,"n_rows":37,"n_cols":19,"rows_kept":37,"merged":[[0,0,0,14],[1,0,1,14],[2,0,2,14],[3,0,3,14]]}
[{"$f":"COVER!A1","v":"U.S. IBU Cup Trials & MN Cup #3"}]
[{"$f":"COVER!A2","v":"2012-12-16"}]
["MEN'S COMBINED 12.5 km PURSUIT COMPETITION"]
[{"$f":"COVER!A4","v":"FINAL RESULTS"}]
[{"$f":"COVER!A5","v":"Coleraine, MN"},{"$nulls":13},{"$f":"COVER!N5","v":"Mt. Itasca Nordic Ski Association"}]
[]
["Pos.","StNr","Name","Club/Team/Hometown, State","Start","Ski Time","P","P","S","S","T","Final","Behind","NA-Pts","%","StNr","FINISH",null,"Points"]
[1,53,"Bowler, Bill","Biathlon Alberta","11:00:50",null,0,1,3,3,{"$f":"IF(ISBLANK(G8),\"\",G8+H8+I8+J8)","v":7},{"$f":"IF(Q8>0,Q8-E8,\"\")","v":"00:32:12"},{"$f":"IF(Q8>0,L8-L$8,\"\")","v":"00:00:00"},{"$f":"IF(Q8>0,S8,\"\")","v":50},{"$f":"IF(Q8>0,2-(L8/((L$8+L$9+L$10)/3)),\"\")","v":{"v":1.0154410640574676,"d":"101.54%"}},{"$f":"B8","v":53},"11:33:02",null,50]
[2,51,"Roberts, Wynn","National Guard","11:00:30",null,3,2,0,3,8,"00:32:17.400","00:00:05.400",46,{"v":1.0126891912551672,"d":"101.27%"},51,"11:32:47.400",null,46]
[3,55,"Dalberg, Jacob","National Guard","11:01:10",null,1,0,4,1,6,"00:33:37.500","00:01:25.500",43,{"v":0.9718697446873652,"d":"97.19%"},55,"11:34:47.500",null,43]
[4,54,"Goessling, Raleigh","MWSC","11:01:00",null,0,4,3,3,10,"00:33:48.700","00:01:36.700",40,{"v":0.9661621566529053,"d":"96.62%"},54,"11:34:48.700",null,40]
[5,56,"Gibson, Michael","Vermont Biathlon","11:01:20",null,3,2,3,4,12,"00:35:10.700","00:02:58.700",37,{"v":0.9243744585435678,"d":"92.44%"},56,"11:36:30.700",null,37]
[6,57,"Roberts, Conrad","National Guard","11:01:30",null,2,2,1,3,8,"00:35:39.200","00:03:27.200",34,{"v":0.9098506854201578,"d":"90.99%"},57,"11:37:09.200",null,34]
[7,52,"Johnson, Mark","Mt.Itasca","11:00:40",null,1,1,5,3,10,"00:35:47.400","00:03:35.400",32,{"v":0.9056719156092066,"d":"90.57%"},52,"11:36:27.400",null,32]
[8,58,"Claas, Marc","Wisconsin Biathlon","11:01:40",null,3,2,3,3,11,"00:45:28.300","00:13:16.300",30,{"v":0.6096417469296183,"d":"60.96%"},58,"11:47:08.300",null,30]
[9,59,"Nelson, Zach ","NNW","11:01:50",null,5,4,5,5,19,"00:48:41.900","00:16:29.900",28,{"v":0.5109820109055749,"d":"51.10%"},59,"11:50:31.900",null,28]
[{"$nulls":10},"",{"$f":"IF(Q17>0,Q17-E17,\"\")","v":""},{"$f":"IF(Q17>0,L17-L$8,\"\")","v":""},{"$f":"IF(Q17>0,S17,\"\")","v":""},{"$f":"IF(Q17>0,2-(L17/((L$8+L$9+L$10)/3)),\"\")","v":""},{"$nulls":3},26]
[{"$nulls":10},"","","","","",{"$nulls":3},24]
[{"$nulls":11},"","","","",{"$nulls":3},22]
[{"$nulls":11},"","","","",{"$nulls":3},20]
[{"$nulls":11},"","","","",{"$nulls":3},18]
[{"$nulls":11},"","","","",{"$nulls":3},16]
[{"$nulls":11},"","","","",{"$nulls":3},15]
[{"$nulls":11},"","","","",{"$nulls":3},14]
[{"$nulls":11},"","","","",{"$nulls":3},13]
[{"$nulls":11},"","","","",{"$nulls":3},12]
[{"$nulls":11},"","","","",{"$nulls":3},11]
[{"$nulls":18},10]
[{"$nulls":18},9]
[{"$nulls":18},8]
[{"$nulls":18},7]
[{"$nulls":18},6]
[{"$nulls":18},5]
[{"$nulls":18},4]
[{"$nulls":18},3]
[{"$nulls":18},2]
[{"$nulls":18},1]

{"sheet":"Women","index":6,"n_rows":37,"n_cols":19,"rows_kept":37,"merged":[[0,0,0,14],[1,0,1,14],[2,0,2,14],[3,0,3,14]]}
[{"$f":"COVER!A1","v":"U.S. IBU Cup Trials & MN Cup #3"}]
[{"$f":"COVER!A2","v":"2012-12-16"}]
["WOMEN'S 10 km PURSUIT COMPETITION"]
[{"$f":"COVER!A4","v":"FINAL RESULTS"}]
[{"$f":"COVER!A5","v":"Coleraine, MN"},{"$nulls":13},{"$f":"COVER!N5","v":"Mt. Itasca Nordic Ski Association"}]
[]
["Pos.","StNr","Name","Club/Team/Hometown, State","Start","Ski Time","P","P","S","S","T","Final","Behind","NA-Pts","%","StNr","FINISH",null,"Points"]
[1,62,"Dreissigacker, Hannah","Craftsbury GRP/Nat.Team","11:03:40",null,0,1,2,1,{"$f":"IF(ISBLANK(G8),\"\",G8+H8+I8+J8)","v":4},{"$f":"IF(Q8>0,Q8-E8,\"\")","v":"00:31:36.400"},{"$f":"IF(Q8>0,L8-L$8,\"\")","v":"00:00:00"},{"$f":"IF(Q8>0,S8,\"\")","v":50},{"$f":"IF(Q8>0,2-(L8/((L$8+L$9+L$10)/3)),\"\")","v":{"v":1.0229442879714248,"d":"102.29%"}},{"$f":"B8","v":62},"11:35:16.400",null,50]
[2,63,"Howe, Katrina","MWSC","11:03:50",null,1,0,2,2,{"$f":"IF(ISBLANK(G9),\"\",G9+H9+I9+J9)","v":5},{"$f":"IF(Q9>0,Q9-E9,\"\")","v":"00:32:12.800"},{"$f":"IF(Q9>0,L9-L$8,\"\")","v":"00:00:36.400"},{"$f":"IF(Q9>0,S9,\"\")","v":46},{"$f":"IF(Q9>0,2-(L9/((L$8+L$9+L$10)/3)),\"\")","v":{"v":1.0041904238510813,"d":"100.42%"}},{"$f":"B9","v":63},"11:36:02.800",null,46]
[3,61,"Malcolm, Corrine","National Team","11:03:30",null,3,4,0,0,{"$f":"IF(ISBLANK(G10),\"\",G10+H10+I10+J10)","v":7},{"$f":"IF(Q10>0,Q10-E10,\"\")","v":"00:33:13.600"},{"$f":"IF(Q10>0,L10-L$8,\"\")","v":"00:01:37.200"},{"$f":"IF(Q10>0,S10,\"\")","v":43},{"$f":"IF(Q10>0,2-(L10/((L$8+L$9+L$10)/3)),\"\")","v":{"v":0.972865288177494,"d":"97.29%"}},{"$f":"B10","v":61},"11:36:43.600",null,43]
[4,66,"Mayo, Andrea",null,"11:04:20",null,0,0,2,3,{"$f":"IF(ISBLANK(G11),\"\",G11+H11+I11+J11)","v":5},{"$f":"IF(Q11>0,Q11-E11,\"\")","v":"00:37:54.700"},{"$f":"IF(Q11>0,L11-L$8,\"\")","v":"00:06:18.300"},{"$f":"IF(Q11>0,S11,\"\")","v":40},{"$f":"IF(Q11>0,2-(L11/((L$8+L$9+L$10)/3)),\"\")","v":{"v":0.8280380572920534,"d":"82.80%"}},{"$f":"B11","v":66},"11:42:14.700",null,40]
[5,65,"Wygant, Jennifer",null,"11:04:10",null,3,1,1,2,{"$f":"IF(ISBLANK(G12),\"\",G12+H12+I12+J12)","v":7},{"$f":"IF(Q12>0,Q12-E12,\"\")","v":"00:37:57.500"},{"$f":"IF(Q12>0,L12-L$8,\"\")","v":"00:06:21.100"},{"$f":"IF(Q12>0,S12,\"\")","v":37},{"$f":"IF(Q12>0,2-(L12/((L$8+L$9+L$10)/3)),\"\")","v":{"v":0.826595452359709,"d":"82.66%"}},{"$f":"B12","v":65},"11:42:07.500",null,37]
[6,{"$nulls":9},{"$f":"IF(ISBLANK(G13),\"\",G13+H13+I13+J13)","v":""},{"$f":"IF(Q13>0,Q13-E13,\"\")","v":""},{"$f":"IF(Q13>0,L13-L$8,\"\")","v":""},{"$f":"IF(Q13>0,S13,\"\")","v":""},{"$f":"IF(Q13>0,2-(L13/((L$8+L$9+L$10)/3)),\"\")","v":""},{"$f":"B13","v":0},null,null,34]
[7,{"$nulls":9},"","","","","",0,null,null,32]
[8,{"$nulls":9},"","","","","",0,null,null,30]
[9,{"$nulls":9},"","","","","",0,null,null,28]
[10,{"$nulls":9},"","","","","",0,null,null,26]
[{"$nulls":11},{"$f":"IF(Q18>0,Q18-E18,\"\")","v":""},{"$f":"IF(Q18>0,L18-L$8,\"\")","v":""},{"$f":"IF(Q18>0,S18,\"\")","v":""},{"$f":"IF(Q18>0,2-(L18/((L$8+L$9+L$10)/3)),\"\")","v":""},{"$nulls":3},24]
[{"$nulls":11},"","","","",{"$nulls":3},22]
[{"$nulls":11},"","","","",{"$nulls":3},20]
[{"$nulls":11},"","","","",{"$nulls":3},18]
[{"$nulls":11},"","","","",{"$nulls":3},16]
[{"$nulls":11},"","","","",{"$nulls":3},15]
[{"$nulls":11},"","","","",{"$nulls":3},14]
[{"$nulls":11},"","","","",{"$nulls":3},13]
[{"$nulls":11},"","","","",{"$nulls":3},12]
[{"$nulls":11},"","","","",{"$nulls":3},11]
[{"$nulls":18},10]
[{"$nulls":18},9]
[{"$nulls":18},8]
[{"$nulls":18},7]
[{"$nulls":18},6]
[{"$nulls":18},5]
[{"$nulls":18},4]
[{"$nulls":18},3]
[{"$nulls":18},2]
[{"$nulls":18},1]

{"sheet":"Jr Women","index":7,"n_rows":37,"n_cols":19,"rows_kept":37,"merged":[[0,0,0,14],[1,0,1,14],[2,0,2,14],[3,0,3,14]]}
[{"$f":"COVER!A1","v":"U.S. IBU Cup Trials & MN Cup #3"}]
[{"$f":"COVER!A2","v":"2012-12-16"}]
["Jr. WOMEN'S 10 km PURSUIT COMPETITION"]
[{"$f":"COVER!A4","v":"FINAL RESULTS"}]
[{"$f":"COVER!A5","v":"Coleraine, MN"},{"$nulls":13},{"$f":"COVER!N5","v":"Mt. Itasca Nordic Ski Association"}]
[]
["Pos.","StNr","Name","Club/Team/Hometown, State","Start","Ski Time","P","P","S","S","T","Final","Behind","NA-Pts","%","StNr","FINISH",null,"Points"]
[1,64,"Kubek, Anna","Mt.Itasca ","11:04:00",null,0,2,2,2,{"$f":"IF(ISBLANK(G8),\"\",G8+H8+I8+J8)","v":6},{"$f":"IF(Q8>0,Q8-E8,\"\")","v":"00:34:14.300"},{"$f":"IF(Q8>0,L8-L$8,\"\")","v":"00:00:00"},{"$f":"IF(Q8>0,S8,\"\")","v":50},{"$f":"IF(Q8>0,2-(L8/((L$8+L$9+L$10)/3)),\"\")","v":{"v":1.0763870155561301,"d":"107.64%"}},{"$f":"B8","v":64},"11:38:14.300",null,50]
[2,69,"Ruzich, Jenna","NNW","11:04:50",null,1,1,0,1,3,"00:38:14","00:03:59.700",46,{"v":0.9686179300422699,"d":"96.86%"},69,"11:43:04",null,46]
[3,70,"Manning, Melissa","MWSC","11:05:00",null,1,1,1,1,4,"00:38:44.300","00:04:30",43,{"v":0.9549950544016002,"d":"95.50%"},70,"11:43:44.300",null,43]
[4,67,"Hynes, Silke","Vermont Biathlon","11:04:30",null,3,1,1,1,6,"00:38:50.200","00:04:35.900",40,{"v":0.9523424152504119,"d":"95.23%"},67,"11:43:20.200",null,40]
[5,68,"Ellingson, Siena","TC Biathlon","11:04:40",null,0,4,1,3,8,"00:40:04.400","00:05:50.100",37,{"v":0.9189821059257157,"d":"91.90%"},68,"11:44:44.400",null,37]
[6,71,"Peterson, Rachel","Hastings","11:05:10",null,1,2,5,5,13,"00:47:33.900","00:13:19.600",34,{"v":0.7168869705961589,"d":"71.69%"},71,"11:52:43.900",null,34]
[{"$nulls":11},{"$f":"IF(Q14>0,Q14-E14,\"\")","v":""},{"$f":"IF(Q14>0,L14-L$8,\"\")","v":""},{"$f":"IF(Q14>0,S14,\"\")","v":""},{"$f":"IF(Q14>0,2-(L14/((L$8+L$9+L$10)/3)),\"\")","v":""},{"$nulls":3},32]
[{"$nulls":11},"","","","",{"$nulls":3},30]
[{"$nulls":11},"","","","",{"$nulls":3},28]
[{"$nulls":11},"","","","",{"$nulls":3},26]
[{"$nulls":11},"","","","",{"$nulls":3},24]
[{"$nulls":11},"","","","",{"$nulls":3},22]
[{"$nulls":11},"","","","",{"$nulls":3},20]
[{"$nulls":11},"","","","",{"$nulls":3},18]
[{"$nulls":11},"","","","",{"$nulls":3},16]
[{"$nulls":11},"","","","",{"$nulls":3},15]
[{"$nulls":11},"","","","",{"$nulls":3},14]
[{"$nulls":11},"","","","",{"$nulls":3},13]
[{"$nulls":11},"","","","",{"$nulls":3},12]
[{"$nulls":11},"","","","",{"$nulls":3},11]
[{"$nulls":18},10]
[{"$nulls":18},9]
[{"$nulls":18},8]
[{"$nulls":18},7]
[{"$nulls":18},6]
[{"$nulls":18},5]
[{"$nulls":18},4]
[{"$nulls":18},3]
[{"$nulls":18},2]
[{"$nulls":18},1]

{"sheet":"Women's Comb","index":8,"n_rows":37,"n_cols":19,"rows_kept":37,"merged":[[0,0,0,14],[1,0,1,14],[2,0,2,14],[3,0,3,14]]}
[{"$f":"COVER!A1","v":"U.S. IBU Cup Trials & MN Cup #3"}]
[{"$f":"COVER!A2","v":"2012-12-16"}]
["WOMEN'S COMBINED 10 km PURSUIT COMPETITION"]
[{"$f":"COVER!A4","v":"FINAL RESULTS"}]
[{"$f":"COVER!A5","v":"Coleraine, MN"},{"$nulls":13},{"$f":"COVER!N5","v":"Mt. Itasca Nordic Ski Association"}]
[]
["Pos.","StNr","Name","Club/Team/Hometown, State","Start","Ski Time","P","P","S","S","T","Final","Behind","NA-Pts","%","StNr","FINISH",null,"Points"]
[1,62,"Dreissigacker, Hannah","Craftsbury GRP/Nat.Team","11:03:40",null,0,1,2,1,{"$f":"IF(ISBLANK(G8),\"\",G8+H8+I8+J8)","v":4},{"$f":"IF(Q8>0,Q8-E8,\"\")","v":"00:31:36.400"},{"$f":"IF(Q8>0,L8-L$8,\"\")","v":"00:00:00"},{"$f":"IF(Q8>0,S8,\"\")","v":50},{"$f":"IF(Q8>0,2-(L8/((L$8+L$9+L$10)/3)),\"\")","v":{"v":1.0229442879714248,"d":"102.29%"}},{"$f":"B8","v":62},"11:35:16.400",null,50]
[2,63,"Howe, Katrina","MWSC","11:03:50",null,1,0,2,2,5,"00:32:12.800","00:00:36.400",46,{"v":1.0041904238510813,"d":"100.42%"},63,"11:36:02.800",null,46]
[3,61,"Malcolm, Corrine","National Team","11:03:30",null,3,4,0,0,7,"00:33:13.600","00:01:37.200",43,{"v":0.972865288177494,"d":"97.29%"},61,"11:36:43.600",null,43]
[4,64,"Kubek, Anna","Mt.Itasca ","11:04:00",null,0,2,2,2,6,"00:34:14.300","00:02:37.900",40,{"v":0.9415916741086952,"d":"94.16%"},64,"11:38:14.300",null,40]
[5,66,"Mayo, Andrea",null,"11:04:20",null,0,0,2,3,5,"00:37:54.700","00:06:18.300",37,{"v":0.8280380572920534,"d":"82.80%"},66,"11:42:14.700",null,37]
[6,65,"Wygant, Jennifer",null,"11:04:10",null,3,1,1,2,7,"00:37:57.500","00:06:21.100",34,{"v":0.826595452359709,"d":"82.66%"},65,"11:42:07.500",null,34]
[7,69,"Ruzich, Jenna","NNW","11:04:50",null,1,1,0,1,3,"00:38:14","00:06:37.600",32,{"v":0.81809438757992,"d":"81.81%"},69,"11:43:04",null,32]
[8,70,"Manning, Melissa","MWSC","11:05:00",null,1,1,1,1,4,"00:38:44.300","00:07:07.900",30,{"v":0.8024833413478791,"d":"80.25%"},70,"11:43:44.300",null,30]
[9,67,"Hynes, Silke","Vermont Biathlon","11:04:30",null,3,1,1,1,6,"00:38:50.200","00:07:13.800",28,{"v":0.7994435666689927,"d":"79.94%"},67,"11:43:20.200",null,28]
[10,68,"Ellingson, Siena","TC Biathlon","11:04:40",null,0,4,1,3,8,"00:40:04.400","00:08:28",26,{"v":0.7612145359621239,"d":"76.12%"},68,"11:44:44.400",null,26]
[11,71,"Peterson, Rachel","Hastings","11:05:10",null,1,2,5,5,13,"00:47:33.900","00:15:57.500",24,{"v":0.5296249227176468,"d":"52.96%"},71,"11:52:43.900",null,24]
[{"$nulls":11},{"$f":"IF(Q19>0,Q19-E19,\"\")","v":""},{"$f":"IF(Q19>0,L19-L$8,\"\")","v":""},{"$f":"IF(Q19>0,S19,\"\")","v":""},{"$f":"IF(Q19>0,2-(L19/((L$8+L$9+L$10)/3)),\"\")","v":""},{"$nulls":3},22]
[{"$nulls":11},"","","","",{"$nulls":3},20]
[{"$nulls":11},"","","","",{"$nulls":3},18]
[{"$nulls":11},"","","","",{"$nulls":3},16]
[{"$nulls":11},"","","","",{"$nulls":3},15]
[{"$nulls":11},"","","","",{"$nulls":3},14]
[{"$nulls":11},"","","","",{"$nulls":3},13]
[{"$nulls":11},"","","","",{"$nulls":3},12]
[{"$nulls":11},"","","","",{"$nulls":3},11]
[{"$nulls":18},10]
[{"$nulls":18},9]
[{"$nulls":18},8]
[{"$nulls":18},7]
[{"$nulls":18},6]
[{"$nulls":18},5]
[{"$nulls":18},4]
[{"$nulls":18},3]
[{"$nulls":18},2]
[{"$nulls":18},1]

{"sheet":"Youth Men","index":9,"n_rows":37,"n_cols":19,"rows_kept":37,"merged":[[0,0,0,14],[1,0,1,14],[2,0,2,14],[3,0,3,14]]}
[{"$f":"COVER!A1","v":"U.S. IBU Cup Trials & MN Cup #3"}]
[{"$f":"COVER!A2","v":"2012-12-16"}]
["YOUTH MEN'S 10 km PURSUIT COMPETITION"]
[{"$f":"COVER!A4","v":"FINAL RESULTS"}]
[{"$f":"COVER!A5","v":"Coleraine, MN"},{"$nulls":13},{"$f":"COVER!N5","v":"Mt. Itasca Nordic Ski Association"}]
[]
["Pos.","StNr","Name","Club/Team/Hometown, State","Start","Ski Time","P","P","S","S","T","Final","Behind","NA-Pts","%","StNr","FINISH",null,"Points"]
[1,75,"Mcelroy, Jordan","National Guard","11:20:00",null,1,1,1,3,{"$f":"IF(ISBLANK(G8),\"\",G8+H8+I8+J8)","v":6},{"$f":"IF(Q8>0,Q8-E8,\"\")","v":"00:30:59"},{"$f":"IF(Q8>0,L8-L$8,\"\")","v":"00:00:00"},{"$f":"IF(Q8>0,S8,\"\")","v":50},{"$f":"IF(Q8>0,2-(L8/((L$8+L$9+L$10)/3)),\"\")","v":{"v":1.0514338197775324,"d":"105.14%"}},{"$f":"B8","v":75},"11:50:59",null,50]
[2,76,"Ellingson, Jakob","TC Biathlon","11:20:10",null,2,3,3,1,9,"00:32:59.500",{"$f":"IF(Q9>0,L9-L$8,\"\")","v":"00:02:00.500"},{"$f":"IF(Q9>0,S9,\"\")","v":46},{"$f":"IF(Q9>0,2-(L9/((L$8+L$9+L$10)/3)),\"\")","v":{"v":0.9899479538728468,"d":"98.99%"}},76,"11:53:09.500",null,46]
[3,79,"Hadrits, Ty","NNW","11:20:40",null,1,0,2,3,6,"00:34:00.900","00:03:01.900",{"$f":"IF(Q10>0,S10,\"\")","v":43},{"v":0.9586182263496208,"d":"95.86%"},79,"11:54:40.900",null,43]
[4,77,"Betsinger, Jalen","Blackhawk Biathlon","11:20:20",null,2,4,3,0,9,"00:34:10","00:03:11",{"$f":"IF(Q11>0,S11,\"\")","v":40},{"v":0.9539748953974916,"d":"95.40%"},77,"11:54:30",null,40]
[5,81,"Baker, Zean","NNW","11:21:00",null,2,2,2,3,9,"00:34:42.200","00:03:43.200",{"$f":"IF(Q12>0,S13,\"\")","v":34},{"v":0.9375446474129716,"d":"93.75%"},81,"11:55:42.200",null,37]
[6,80,"Fairbanks, Joe","Duluth/Esko","11:20:50",null,5,4,3,3,15,"00:39:08.200","00:08:09.200",32,{"v":0.8018165118889748,"d":"80.18%"},80,"11:59:58.200",null,34]
[7,{"$nulls":9},{"$f":"IF(ISBLANK(G14),\"\",G14+H14+I14+J14)","v":""},{"$f":"IF(Q14>0,Q14-E14,\"\")","v":""},{"$f":"IF(Q14>0,L14-L$8,\"\")","v":""},"",{"$f":"IF(Q14>0,2-(L14/((L$8+L$9+L$10)/3)),\"\")","v":""},{"$f":"B14","v":0},null,null,32]
[8,{"$nulls":9},"","","","","",0,null,null,30]
[9,{"$nulls":9},"","","","","",0,null,null,28]
[10,{"$nulls":9},"","","","","",0,null,null,26]
[11,{"$nulls":9},{"$f":"IF(ISBLANK(G18),\"\",G18+H18+I18+J18)","v":""},{"$f":"IF(Q18>0,Q18-E18,\"\")","v":""},{"$f":"IF(Q18>0,L18-L$8,\"\")","v":""},"",{"$f":"IF(Q18>0,2-(L18/((L$8+L$9+L$10)/3)),\"\")","v":""},{"$nulls":3},24]
[{"$nulls":10},"","","","","",{"$nulls":3},22]
[{"$nulls":10},"","","","","",{"$nulls":3},20]
[{"$nulls":10},"","","","","",{"$nulls":3},18]
[{"$nulls":10},"","","","","",{"$nulls":3},16]
[{"$nulls":10},"","","","","",{"$nulls":3},15]
[{"$nulls":10},"","","","","",{"$nulls":3},14]
[{"$nulls":10},"","","","","",{"$nulls":3},13]
[{"$nulls":10},"","","","","",{"$nulls":3},12]
[{"$nulls":10},"","","","","",{"$nulls":3},11]
[{"$nulls":10},"","","","","",{"$nulls":3},10]
[{"$nulls":10},"","","","","",{"$nulls":3},9]
[{"$nulls":10},"","","","","",{"$nulls":3},8]
[{"$nulls":10},"","","","","",{"$nulls":3},7]
[{"$nulls":18},6]
[{"$nulls":18},5]
[{"$nulls":18},4]
[{"$nulls":18},3]
[{"$nulls":18},2]
[{"$nulls":18},1]

{"sheet":"Men Master","index":10,"n_rows":36,"n_cols":22,"rows_kept":36,"merged":[[0,0,0,14],[1,0,1,14],[2,0,2,14],[3,0,3,14]]}
[{"$f":"COVER!A1","v":"U.S. IBU Cup Trials & MN Cup #3"}]
[{"$f":"COVER!A2","v":"2012-12-16"}]
["MASTER MEN'S 10 km PURSUIT COMPETITION"]
[{"$f":"COVER!A4","v":"FINAL RESULTS"}]
[{"$f":"COVER!A5","v":"Coleraine, MN"},{"$nulls":13},{"$f":"COVER!N5","v":"Mt. Itasca Nordic Ski Association"}]
[]
["Pos.","StNr","Name","Club/Team/Hometown, State","Start","Ski Time","P","P","S","S","T","Final","Behind","NA-Pts","%","StNr","FINISH",null,"Points"]
[1,84,"Quinlan, Bill","Colorado Biathlon","11:21:30",null,1,1,3,0,{"$f":"IF(ISBLANK(G8),\"\",G8+H8+I8+J8)","v":5},{"$f":"IF(Q8>0,Q8-E8,\"\")","v":"00:39:22"},{"$f":"IF(Q8>0,L8-L$8,\"\")","v":"00:00:00"},{"$f":"IF(Q8>0,S8,\"\")","v":50},{"$f":"IF(Q8>0,2-(L8/((L$8+L$9+L$10)/3)),\"\")","v":{"v":1.0888400262315225,"d":"108.88%"}},{"$f":"B8","v":84},"12:00:52",null,50]
[2,83,"Peterson, Paul","National Guard","11:21:20",null,3,3,3,4,{"$f":"IF(ISBLANK(G9),\"\",G9+H9+I9+J9)","v":13},{"$f":"IF(Q9>0,Q9-E9,\"\")","v":"00:40:17.500"},{"$f":"IF(Q9>0,L9-L$8,\"\")","v":"00:00:55.500"},{"$f":"IF(Q9>0,S9,\"\")","v":46},{"$f":"IF(Q9>0,2-(L9/((L$8+L$9+L$10)/3)),\"\")","v":{"v":1.067430467152739,"d":"106.74%"}},{"$f":"B9","v":83},"12:01:37.500",null,46]
[3,87,"Christiansen, Pelle","NNW","11:22:00",null,3,2,3,5,{"$f":"IF(ISBLANK(G10),\"\",G10+H10+I10+J10)","v":13},{"$f":"IF(Q10>0,Q10-E10,\"\")","v":"00:49:57.400"},{"$f":"IF(Q10>0,L10-L$8,\"\")","v":"00:10:35.400"},{"$f":"IF(Q10>0,S10,\"\")","v":43},{"$f":"IF(Q10>0,2-(L10/((L$8+L$9+L$10)/3)),\"\")","v":{"v":0.8437295066157382,"d":"84.37%"}},{"$f":"B10","v":87},"12:11:57.400",null,43]
[4,85,"Bradley, Tyler","National Guard","11:21:40",null,5,3,5,4,{"$f":"IF(ISBLANK(G11),\"\",G11+H11+I11+J11)","v":17},{"$f":"IF(Q11>0,Q11-E11,\"\")","v":"00:50:29.700"},{"$f":"IF(Q11>0,L11-L$8,\"\")","v":"00:11:07.700"},{"$f":"IF(Q11>0,S11,\"\")","v":40},{"$f":"IF(Q11>0,2-(L11/((L$8+L$9+L$10)/3)),\"\")","v":{"v":0.8312695289897087,"d":"83.13%"}},{"$f":"B11","v":85},"12:12:09.700",null,40]
[5,86,"Hynes, Jeremiah","Ontario Biathlon","11:21:50",null,3,4,5,5,{"$f":"IF(ISBLANK(G12),\"\",G12+H12+I12+J12)","v":17},{"$f":"IF(Q12>0,Q12-E12,\"\")","v":"00:59:10.700"},{"$f":"IF(Q12>0,L12-L$8,\"\")","v":"00:19:48.700"},{"$f":"IF(Q12>0,S12,\"\")","v":37},{"$f":"IF(Q12>0,2-(L12/((L$8+L$9+L$10)/3)),\"\")","v":{"v":0.6302897041237745,"d":"63.03%"}},{"$f":"B12","v":86},"12:21:00.700",null,37]
[6,{"$nulls":9},{"$f":"IF(ISBLANK(G13),\"\",G13+H13+I13+J13)","v":""},{"$f":"IF(Q13>0,Q13-E13,\"\")","v":""},{"$f":"IF(Q13>0,L13-L$8,\"\")","v":""},{"$f":"IF(Q13>0,S13,\"\")","v":""},{"$f":"IF(Q13>0,2-(L13/((L$8+L$9+L$10)/3)),\"\")","v":""},{"$f":"B13","v":0},null,null,34]
[7,{"$nulls":9},"","","","","",0,null,null,32]
[8,{"$nulls":9},"","","","","",0,null,null,30]
[9,{"$nulls":9},"","","","","",0,null,null,28]
[{"$nulls":18},26]
[{"$nulls":18},22]
[{"$nulls":11},{"$f":"IF(Q19>0,Q19-E19,\"\")","v":""},{"$f":"IF(Q19>0,L19-L$8,\"\")","v":""},{"$f":"IF(Q19>0,S19,\"\")","v":""},{"$f":"IF(Q19>0,2-(L19/((L$8+L$9+L$10)/3)),\"\")","v":""},{"$nulls":3},20]
[{"$nulls":11},"","","","",{"$nulls":3},18]
[{"$nulls":11},"","","","",{"$nulls":3},16]
[{"$nulls":11},"","","","",{"$nulls":3},15]
[{"$nulls":11},"","","","",{"$nulls":3},14]
[{"$nulls":11},"","","","",{"$nulls":3},13]
[{"$nulls":11},"","","","",{"$nulls":3},12]
[{"$nulls":11},"","","","",{"$nulls":3},11]
[{"$nulls":18},10,null,null,"`"]
[{"$nulls":18},9]
[{"$nulls":18},8]
[{"$nulls":18},7]
[{"$nulls":18},6]
[{"$nulls":18},5]
[{"$nulls":18},4]
[{"$nulls":18},3]
[{"$nulls":18},2]
[{"$nulls":18},1]

{"sheet":"Boys","index":11,"n_rows":37,"n_cols":19,"rows_kept":37,"merged":[[0,0,0,14],[1,0,1,14],[2,0,2,14],[3,0,3,14]]}
[{"$f":"COVER!A1","v":"U.S. IBU Cup Trials & MN Cup #3"}]
[{"$f":"COVER!A2","v":"2012-12-16"}]
["BOY'S 7.5 km PURSUIT COMPETITION"]
[{"$f":"COVER!A4","v":"FINAL RESULTS"}]
[{"$f":"COVER!A5","v":"Coleraine, MN"},{"$nulls":13},{"$f":"COVER!N5","v":"Mt. Itasca Nordic Ski Association"}]
[]
["Pos.","StNr","Name","Club/Team/Hometown, State","Start","Ski Time","P","P","S","S","T","Final","Behind","NA-Pts","%","StNr","FINISH",null,"Points"]
[1,88,"Christiansen, Cam","NNW","11:22:10",null,2,1,5,1,{"$f":"IF(ISBLANK(G8),\"\",G8+H8+I8+J8)","v":9},{"$f":"IF(Q8>0,Q8-E8,\"\")","v":"00:35:47.600"},{"$f":"IF(Q8>0,L8-L$8,\"\")","v":"00:00:00"},{"$f":"IF(Q8>0,S8,\"\")","v":50},{"$f":"IF(Q8>0,2-(L8/((L$8+L$9+L$10)/3)),\"\")","v":{"v":1.0370514295963065,"d":"103.71%"}},{"$f":"B8","v":88},"11:57:57.600",null,50]
[2,89,"Pascuzzo, Joseph","Ontario Biathlon","11:22:20",null,4,2,1,1,{"$f":"IF(ISBLANK(G9),\"\",G9+H9+I9+J9)","v":8},{"$f":"IF(Q9>0,Q9-E9,\"\")","v":"00:35:57.500"},{"$f":"IF(Q9>0,L9-L$8,\"\")","v":"00:00:09.900"},{"$f":"IF(Q9>0,S9,\"\")","v":46},{"$f":"IF(Q9>0,2-(L9/((L$8+L$9+L$10)/3)),\"\")","v":{"v":1.032612432181995,"d":"103.26%"}},{"$f":"B9","v":89},"11:58:17.500",null,46]
[3,90,"Quinn, Toby","Lake Superior Biathlon","11:22:30",null,4,4,5,4,{"$f":"IF(ISBLANK(G10),\"\",G10+H10+I10+J10)","v":17},{"$f":"IF(Q10>0,Q10-E10,\"\")","v":"00:39:45.600"},{"$f":"IF(Q10>0,L10-L$8,\"\")","v":"00:03:58"},{"$f":"IF(Q10>0,S10,\"\")","v":43},{"$f":"IF(Q10>0,2-(L10/((L$8+L$9+L$10)/3)),\"\")","v":{"v":0.9303361382216984,"d":"93.03%"}},{"$f":"B10","v":90},"12:02:15.600",null,43]
[4,{"$nulls":9},{"$f":"IF(ISBLANK(G11),\"\",G11+H11+I11+J11)","v":""},{"$f":"IF(Q11>0,Q11-E11,\"\")","v":""},{"$f":"IF(Q11>0,L11-L$8,\"\")","v":""},{"$f":"IF(Q11>0,S11,\"\")","v":""},{"$f":"IF(Q11>0,2-(L11/((L$8+L$9+L$10)/3)),\"\")","v":""},{"$f":"B11","v":0},null,null,40]
[5,{"$nulls":9},"","","","","",0,null,null,37]
[6,{"$nulls":9},"","","","","",0,null,null,34]
[7,{"$nulls":9},"","","","","",0,null,null,32]
[8,{"$nulls":9},"","","","","",0,null,null,30]
[9,{"$nulls":9},"","","","","",0,null,null,28]
[10,{"$nulls":9},"","","","","",0,null,null,26]
[11,{"$nulls":9},"","","","","",0,null,null,24]
[12,{"$nulls":9},"","","","","",0,null,null,22]
[13,{"$nulls":9},"","","","","",0,null,null,20]
[{"$nulls":11},"","","","",{"$nulls":3},18]
[{"$nulls":11},"","","","",{"$nulls":3},16]
[{"$nulls":11},"","","","",{"$nulls":3},15]
[{"$nulls":11},"","","","",{"$nulls":3},14]
[{"$nulls":11},"","","","",{"$nulls":3},13]
[{"$nulls":11},"","","","",{"$nulls":3},12]
[{"$nulls":11},"","","","",{"$nulls":3},11]
[{"$nulls":18},10]
[{"$nulls":18},9]
[{"$nulls":18},8]
[{"$nulls":18},7]
[{"$nulls":18},6]
[{"$nulls":18},5]
[{"$nulls":18},4]
[{"$nulls":18},3]
[{"$nulls":18},2]
[{"$nulls":18},1]

{"sheet":"Women Master","index":12,"n_rows":37,"n_cols":19,"rows_kept":37,"merged":[[0,0,0,14],[1,0,1,14],[2,0,2,14],[3,0,3,14]]}
[{"$f":"COVER!A1","v":"U.S. IBU Cup Trials & MN Cup #3"}]
[{"$f":"COVER!A2","v":"2012-12-16"}]
["MASTER WOMEN'S 10 km PURSUIT COMPETITION"]
[{"$f":"COVER!A4","v":"FINAL RESULTS"}]
[{"$f":"COVER!A5","v":"Coleraine, MN"},{"$nulls":13},{"$f":"COVER!N5","v":"Mt. Itasca Nordic Ski Association"}]
[null,null,"30-39 Years Old"]
["Pos.","StNr","Name","Club/Team/Hometown, State","Start","Ski Time","P","P","S","S","T","Final","Behind","NA-Pts","%","StNr","FINISH",null,"Points"]
[1,{"$nulls":9},{"$f":"IF(ISBLANK(G8),\"\",G8+H8+I8+J8)","v":""},{"$f":"IF(Q8>0,Q8-E8,\"\")","v":""},{"$f":"IF(Q8>0,L8-L$8,\"\")","v":""},{"$f":"IF(Q8>0,S8,\"\")","v":""},null,{"$f":"B8","v":0},null,null,50]
[2,{"$nulls":9},{"$f":"IF(ISBLANK(G9),\"\",G9+H9+I9+J9)","v":""},{"$f":"IF(Q9>0,Q9-E9,\"\")","v":""},{"$f":"IF(Q9>0,L9-L$8,\"\")","v":""},{"$f":"IF(Q9>0,S9,\"\")","v":""},null,{"$f":"B9","v":0},null,null,46]
[{"$nulls":11},{"$f":"IF(Q10>0,Q10-E10,\"\")","v":""},{"$f":"IF(Q10>0,L10-L$8,\"\")","v":""},{"$f":"IF(Q10>0,S10,\"\")","v":""},{"$f":"IF(Q10>0,2-(L10/((L$8+L$9+L$10)/3)),\"\")","v":""},{"$nulls":3},43]
[{"$nulls":11},"","","","",{"$nulls":3},40]
[{"$nulls":11},"","","","",{"$nulls":3},37]
[{"$nulls":11},"","","","",{"$nulls":3},34]
[{"$nulls":11},"","","","",{"$nulls":3},32]
[{"$nulls":11},"","","","",{"$nulls":3},30]
[{"$nulls":11},"","","","",{"$nulls":3},28]
[{"$nulls":11},"","","","",{"$nulls":3},26]
[{"$nulls":11},"","","","",{"$nulls":3},24]
[{"$nulls":11},"","","","",{"$nulls":3},22]
[{"$nulls":11},"","","","",{"$nulls":3},20]
[{"$nulls":11},"","","","",{"$nulls":3},18]
[{"$nulls":11},"","","","",{"$nulls":3},16]
[{"$nulls":11},"","","","",{"$nulls":3},15]
[{"$nulls":11},"","","","",{"$nulls":3},14]
[{"$nulls":11},"","","","",{"$nulls":3},13]
[{"$nulls":11},"","","","",{"$nulls":3},12]
[{"$nulls":11},"","","","",{"$nulls":3},11]
[{"$nulls":18},10]
[{"$nulls":18},9]
[{"$nulls":18},8]
[{"$nulls":18},7]
[{"$nulls":18},6]
[{"$nulls":18},5]
[{"$nulls":18},4]
[{"$nulls":18},3]
[{"$nulls":18},2]
[{"$nulls":18},1]

{"sheet":"Women Veteran","index":13,"n_rows":37,"n_cols":19,"rows_kept":37,"merged":[[0,0,0,14],[1,0,1,14],[2,0,2,14],[3,0,3,14]]}
[{"$f":"COVER!A1","v":"U.S. IBU Cup Trials & MN Cup #3"}]
[{"$f":"COVER!A2","v":"2012-12-16"}]
["VETERAN WOMEN'S 10 km PURSUIT COMPETITION"]
[{"$f":"COVER!A4","v":"FINAL RESULTS"}]
[{"$f":"COVER!A5","v":"Coleraine, MN"},{"$nulls":13},{"$f":"COVER!N5","v":"Mt. Itasca Nordic Ski Association"}]
[null,null,"50+ Years Old"]
["Pos.","StNr","Name","Club/Team/Hometown, State","Start","Ski Time","P","P","S","S","T","Final","Behind","NA-Pts","%","StNr","FINISH",null,"Points"]
[1,{"$nulls":9},{"$f":"IF(ISBLANK(G8),\"\",G8+H8+I8+J8)","v":""},{"$f":"IF(Q8>0,Q8-E8,\"\")","v":""},{"$f":"IF(Q8>0,L8-L$8,\"\")","v":""},{"$f":"IF(Q8>0,S8,\"\")","v":""},null,{"$f":"B8","v":0},null,null,50]
[{"$nulls":11},"","","",{"$f":"IF(Q9>0,2-(L9/((L$8+L$9+L$10)/3)),\"\")","v":""},{"$nulls":3},46]
[{"$nulls":11},"","","","",{"$nulls":3},43]
[{"$nulls":11},"","","","",{"$nulls":3},40]
[{"$nulls":11},"","","","",{"$nulls":3},37]
[{"$nulls":11},"","","","",{"$nulls":3},34]
[{"$nulls":11},"","","","",{"$nulls":3},32]
[{"$nulls":11},"","","","",{"$nulls":3},30]
[{"$nulls":11},"","","","",{"$nulls":3},28]
[{"$nulls":11},"","","","",{"$nulls":3},26]
[{"$nulls":11},"","","","",{"$nulls":3},24]
[{"$nulls":11},"","","","",{"$nulls":3},22]
[{"$nulls":11},"","","","",{"$nulls":3},20]
[{"$nulls":11},"","","","",{"$nulls":3},18]
[{"$nulls":11},"","","","",{"$nulls":3},16]
[{"$nulls":11},"","","","",{"$nulls":3},15]
[{"$nulls":11},"","","","",{"$nulls":3},14]
[{"$nulls":11},"","","","",{"$nulls":3},13]
[{"$nulls":11},"","","","",{"$nulls":3},12]
[{"$nulls":11},"","","","",{"$nulls":3},11]
[{"$nulls":18},10]
[{"$nulls":18},9]
[{"$nulls":18},8]
[{"$nulls":18},7]
[{"$nulls":18},6]
[{"$nulls":18},5]
[{"$nulls":18},4]
[{"$nulls":18},3]
[{"$nulls":18},2]
[{"$nulls":18},1]

{"sheet":"Women Sr","index":14,"n_rows":37,"n_cols":19,"rows_kept":37,"merged":[[0,0,0,14],[1,0,1,14],[2,0,2,14],[3,0,3,14]]}
[{"$f":"COVER!A1","v":"U.S. IBU Cup Trials & MN Cup #3"}]
[{"$f":"COVER!A2","v":"2012-12-16"}]
["SR MASTER WOMEN'S 10 km PURSUIT COMPETITION"]
[{"$f":"COVER!A4","v":"FINAL RESULTS"}]
[{"$f":"COVER!A5","v":"Coleraine, MN"},{"$nulls":13},{"$f":"COVER!N5","v":"Mt. Itasca Nordic Ski Association"}]
[null,null,"40-49 Years Old"]
["Pos.","StNr","Name","Club/Team/Hometown, State","Start","Ski Time","P","P","S","S","T","Final","Behind","NA-Pts","%","StNr","FINISH",null,"Points"]
[1,{"$nulls":9},{"$f":"IF(ISBLANK(G8),\"\",G8+H8+I8+J8)","v":""},{"$f":"IF(Q8>0,Q8-E8,\"\")","v":""},{"$f":"IF(Q8>0,L8-L$8,\"\")","v":""},{"$f":"IF(Q8>0,S8,\"\")","v":""},null,{"$f":"B8","v":0},null,null,50]
[{"$nulls":11},"","","",{"$f":"IF(Q9>0,2-(L9/((L$8+L$9+L$10)/3)),\"\")","v":""},{"$nulls":3},46]
[{"$nulls":11},"","","","",{"$nulls":3},43]
[{"$nulls":11},"","","","",{"$nulls":3},40]
[{"$nulls":11},"","","","",{"$nulls":3},37]
[{"$nulls":11},"","","","",{"$nulls":3},34]
[{"$nulls":11},"","","","",{"$nulls":3},32]
[{"$nulls":11},"","","","",{"$nulls":3},30]
[{"$nulls":11},"","","","",{"$nulls":3},28]
[{"$nulls":11},"","","","",{"$nulls":3},26]
[{"$nulls":11},"","","","",{"$nulls":3},24]
[{"$nulls":11},"","","","",{"$nulls":3},22]
[{"$nulls":11},"","","","",{"$nulls":3},20]
[{"$nulls":11},"","","","",{"$nulls":3},18]
[{"$nulls":11},"","","","",{"$nulls":3},16]
[{"$nulls":11},"","","","",{"$nulls":3},15]
[{"$nulls":11},"","","","",{"$nulls":3},14]
[{"$nulls":11},"","","","",{"$nulls":3},13]
[{"$nulls":11},"","","","",{"$nulls":3},12]
[{"$nulls":11},"","","","",{"$nulls":3},11]
[{"$nulls":18},10]
[{"$nulls":18},9]
[{"$nulls":18},8]
[{"$nulls":18},7]
[{"$nulls":18},6]
[{"$nulls":18},5]
[{"$nulls":18},4]
[{"$nulls":18},3]
[{"$nulls":18},2]
[{"$nulls":18},1]

{"sheet":"Men Sr","index":15,"n_rows":37,"n_cols":22,"rows_kept":37,"merged":[[0,0,0,14],[1,0,1,14],[2,0,2,14],[3,0,3,14]]}
[{"$f":"COVER!A1","v":"U.S. IBU Cup Trials & MN Cup #3"}]
[{"$f":"COVER!A2","v":"2012-12-16"}]
["SR MASTER MEN'S 12.5 km PURSUIT COMPETITION"]
[{"$f":"COVER!A4","v":"FINAL RESULTS"}]
[{"$f":"COVER!A5","v":"Coleraine, MN"},{"$nulls":13},{"$f":"COVER!N5","v":"Mt. Itasca Nordic Ski Association"}]
[null,null,"40-49 Years Old"]
["Pos.","StNr","Name","Club/Team/Hometown, State","Start","Ski Time","P","P","S","S","T","Final","Behind","NA-Pts","%","StNr","FINISH",null,"Points"]
[1,{"$nulls":9},{"$f":"IF(ISBLANK(G8),\"\",G8+H8+I8+J8)","v":""},{"$f":"IF(Q8>0,Q8-E8,\"\")","v":""},{"$f":"IF(Q8>0,L8-L$8,\"\")","v":""},{"$f":"IF(Q8>0,S8,\"\")","v":""},{"$f":"IF(Q8>0,2-(L8/((L$8+L$9+L$10)/3)),\"\")","v":""},{"$f":"B8","v":0},null,null,50]
[2,{"$nulls":9},"","","","","",0,null,null,46]
[3,{"$nulls":9},"","","","","",0,null,null,43]
[4,{"$nulls":9},"","","","","",0,null,null,40]
[5,{"$nulls":9},"","","","","",0,null,null,37]
[6,{"$nulls":9},"","","","","",0,null,null,34]
[{"$nulls":11},{"$f":"IF(Q14>0,Q14-E14,\"\")","v":""},{"$f":"IF(Q14>0,L14-L$8,\"\")","v":""},{"$f":"IF(Q14>0,S14,\"\")","v":""},{"$f":"IF(Q14>0,2-(L14/((L$8+L$9+L$10)/3)),\"\")","v":""},{"$nulls":3},32]
[{"$nulls":11},"","","","",{"$nulls":3},30]
[{"$nulls":11},"","","","",{"$nulls":3},28]
[{"$nulls":11},"","","","",{"$nulls":3},26]
[{"$nulls":11},"","","","",{"$nulls":3},24]
[{"$nulls":11},"","","","",{"$nulls":3},22]
[{"$nulls":11},"","","","",{"$nulls":3},20]
[{"$nulls":11},"","","","",{"$nulls":3},18]
[{"$nulls":11},"","","","",{"$nulls":3},16]
[{"$nulls":11},"","","","",{"$nulls":3},15]
[{"$nulls":11},"","","","",{"$nulls":3},14]
[{"$nulls":11},"","","","",{"$nulls":3},13]
[{"$nulls":11},"","","","",{"$nulls":3},12]
[{"$nulls":11},"","","","",{"$nulls":3},11]
[{"$nulls":18},10,null,null,"`"]
[{"$nulls":18},9]
[{"$nulls":18},8]
[{"$nulls":18},7]
[{"$nulls":18},6]
[{"$nulls":18},5]
[{"$nulls":18},4]
[{"$nulls":18},3]
[{"$nulls":18},2]
[{"$nulls":18},1]

{"sheet":"Men Veteran","index":16,"n_rows":37,"n_cols":22,"rows_kept":37,"merged":[[0,0,0,14],[1,0,1,14],[2,0,2,14],[3,0,3,14]]}
[{"$f":"COVER!A1","v":"U.S. IBU Cup Trials & MN Cup #3"}]
[{"$f":"COVER!A2","v":"2012-12-16"}]
["VETERAN MEN'S 12.5 km PURSUIT COMPETITION"]
[{"$f":"COVER!A4","v":"FINAL RESULTS"}]
[{"$f":"COVER!A5","v":"Coleraine, MN"},{"$nulls":13},{"$f":"COVER!N5","v":"Mt. Itasca Nordic Ski Association"}]
[null,null,"50+ Years Old"]
["Pos.","StNr","Name","Club/Team/Hometown, State","Start","Ski Time","P","P","S","S","T","Final","Behind","NA-Pts","%","StNr","FINISH",null,"Points"]
[1,{"$nulls":9},{"$f":"IF(ISBLANK(G8),\"\",G8+H8+I8+J8)","v":""},{"$f":"IF(Q8>0,Q8-E8,\"\")","v":""},{"$f":"IF(Q8>0,L8-L$8,\"\")","v":""},{"$f":"IF(Q8>0,S8,\"\")","v":""},{"$f":"IF(Q8>0,2-(L8/((L$8+L$9+L$10)/3)),\"\")","v":""},{"$f":"B8","v":0},null,null,50]
[2,{"$nulls":9},"","","","","",0,null,null,46]
[3,{"$nulls":9},"","","","","",0,null,null,43]
[4,{"$nulls":9},"","","","","",0,null,null,40]
[5,{"$nulls":9},"","","","","",0,null,null,37]
[6,{"$nulls":9},"","","","","",0,null,null,34]
[{"$nulls":18},32]
[{"$nulls":11},{"$f":"IF(Q15>0,Q15-E15,\"\")","v":""},{"$f":"IF(Q15>0,L15-L$8,\"\")","v":""},{"$f":"IF(Q15>0,S15,\"\")","v":""},{"$f":"IF(Q15>0,2-(L15/((L$8+L$9+L$10)/3)),\"\")","v":""},{"$nulls":3},30]
[{"$nulls":11},"","","","",{"$nulls":3},28]
[{"$nulls":11},"","","","",{"$nulls":3},26]
[{"$nulls":11},"","","","",{"$nulls":3},24]
[{"$nulls":11},"","","","",{"$nulls":3},22]
[{"$nulls":11},"","","","",{"$nulls":3},20]
[{"$nulls":11},"","","","",{"$nulls":3},18]
[{"$nulls":11},"","","","",{"$nulls":3},16]
[{"$nulls":11},"","","","",{"$nulls":3},15]
[{"$nulls":11},"","","","",{"$nulls":3},14]
[{"$nulls":11},"","","","",{"$nulls":3},13]
[{"$nulls":11},"","","","",{"$nulls":3},12]
[{"$nulls":11},"","","","",{"$nulls":3},11]
[{"$nulls":18},10,null,null,"`"]
[{"$nulls":18},9]
[{"$nulls":18},8]
[{"$nulls":18},7]
[{"$nulls":18},6]
[{"$nulls":18},5]
[{"$nulls":18},4]
[{"$nulls":18},3]
[{"$nulls":18},2]
[{"$nulls":18},1]

{"sheet":"Point Summary","index":17,"n_rows":57,"n_cols":8,"rows_kept":57}
[null,"Junior/Youth World Biathlon Trials"]
[null,"% Summary"]
[null,"Through Day 2"]
[]
[]
["Class","Name","Club/Team/Hometown, State","Sprint","Pursuit","2-Day Total","Relay","Total Best 2 of 3 Days"]
[{"$nulls":5},{"$f":"SUM(D7:E7)","v":{"v":0,"d":"0.00%"}}]
[{"$nulls":5},{"v":0,"d":"0.00%"}]
[{"$nulls":5},{"v":0,"d":"0.00%"}]
[{"$nulls":5},{"v":0,"d":"0.00%"}]
[{"$nulls":5},{"v":0,"d":"0.00%"}]
[{"$nulls":5},{"v":0,"d":"0.00%"}]
[{"$nulls":5},{"v":0,"d":"0.00%"}]
[{"$nulls":5},{"v":0,"d":"0.00%"}]
[{"$nulls":5},{"$f":"SUM(D15:E15)","v":{"v":0,"d":"0.00%"}}]
[{"$nulls":5},{"v":0,"d":"0.00%"}]
[{"$nulls":5},{"v":0,"d":"0.00%"}]
[{"$nulls":5},{"v":0,"d":"0.00%"}]
[{"$nulls":5},{"v":0,"d":"0.00%"}]
[{"$nulls":5},{"v":0,"d":"0.00%"}]
[{"$nulls":5},{"v":0,"d":"0.00%"}]
[{"$nulls":5},{"v":0,"d":"0.00%"}]
[{"$nulls":5},{"v":0,"d":"0.00%"}]
[{"$nulls":5},{"v":0,"d":"0.00%"}]
[{"$nulls":5},{"v":0,"d":"0.00%"}]
[{"$nulls":5},{"v":0,"d":"0.00%"}]
[{"$nulls":5},{"v":0,"d":"0.00%"}]
[{"$nulls":5},{"v":0,"d":"0.00%"}]
[{"$nulls":5},{"v":0,"d":"0.00%"}]
[{"$nulls":5},{"v":0,"d":"0.00%"}]
[{"$nulls":5},{"v":0,"d":"0.00%"}]
[{"$nulls":5},{"v":0,"d":"0.00%"}]
[{"$nulls":5},{"v":0,"d":"0.00%"}]
[{"$nulls":5},{"v":0,"d":"0.00%"}]
[{"$nulls":5},{"v":0,"d":"0.00%"}]
[{"$nulls":5},{"v":0,"d":"0.00%"}]
[{"$nulls":5},{"v":0,"d":"0.00%"}]
[{"$nulls":5},{"v":0,"d":"0.00%"}]
[{"$nulls":5},{"v":0,"d":"0.00%"}]
[{"$nulls":5},{"v":0,"d":"0.00%"}]
[{"$nulls":5},{"v":0,"d":"0.00%"}]
[{"$nulls":5},{"$f":"SUM(D42:E42)","v":{"v":0,"d":"0.00%"}}]
[{"$nulls":5},{"v":0,"d":"0.00%"}]
[{"$nulls":5},{"v":0,"d":"0.00%"}]
[{"$nulls":5},{"v":0,"d":"0.00%"}]
[{"$nulls":5},{"v":0,"d":"0.00%"}]
[{"$nulls":5},{"v":0,"d":"0.00%"}]
[{"$nulls":5},{"v":0,"d":"0.00%"}]
[{"$nulls":5},{"$f":"SUM(D49:E49)","v":{"v":0,"d":"0.00%"}}]
[{"$nulls":5},{"v":0,"d":"0.00%"}]
[{"$nulls":5},{"v":0,"d":"0.00%"}]
[{"$nulls":5},{"v":0,"d":"0.00%"}]
[{"$nulls":5},{"v":0,"d":"0.00%"}]
[{"$nulls":5},{"v":0,"d":"0.00%"}]
[{"$nulls":5},{"v":0,"d":"0.00%"}]
[{"$nulls":5},{"v":0,"d":"0.00%"}]
[{"$nulls":5},{"v":0,"d":"0.00%"}]